BEGIN:VCALENDAR
VERSION:2.0
PRODID:-//pretix//pretix.eu//
BEGIN:VTIMEZONE
TZID:Europe/Berlin
BEGIN:STANDARD
DTSTART:20001029T040000
RRULE:FREQ=YEARLY;BYDAY=-1SU;BYMONTH=10
TZNAME:CET
TZOFFSETFROM:+0200
TZOFFSETTO:+0100
END:STANDARD
BEGIN:DAYLIGHT
DTSTART:20000326T030000
RRULE:FREQ=YEARLY;BYDAY=-1SU;BYMONTH=3
TZNAME:CEST
TZOFFSETFROM:+0100
TZOFFSETTO:+0200
END:DAYLIGHT
END:VTIMEZONE
BEGIN:VEVENT
UID:pretix-gerressen-vt-waffelfest-4516919@gerressen.vereinsticket.de
DTSTART;TZID=Europe/Berlin:20250622T110000
DTEND;TZID=Europe/Berlin:20250622T120000
DESCRIPTION:Tickets: https://gerressen.vereinsticket.de/vt-waffelfest/45169
 19/\nVeranstalter: Dorfgemeinschaft Gerressen e.V.
DTSTAMP:20260423T025529Z
LOCATION:Dorfscheune\, Gerressener Straße\, 51570 Windeck
SUMMARY:Sonntag :-)
END:VEVENT
END:VCALENDAR
